BEGIN:VCALENDAR
VERSION:2.0
PRODID:-//Experience Yardley - ECPv6.15.20//NONSGML v1.0//EN
CALSCALE:GREGORIAN
METHOD:PUBLISH
X-WR-CALNAME:Experience Yardley
X-ORIGINAL-URL:https://experienceyardley.com
X-WR-CALDESC:Events for Experience Yardley
REFRESH-INTERVAL;VALUE=DURATION:PT1H
X-Robots-Tag:noindex
X-PUBLISHED-TTL:PT1H
BEGIN:VTIMEZONE
TZID:America/New_York
BEGIN:DAYLIGHT
TZOFFSETFROM:-0500
TZOFFSETTO:-0400
TZNAME:EDT
DTSTART:20250309T070000
END:DAYLIGHT
BEGIN:STANDARD
TZOFFSETFROM:-0400
TZOFFSETTO:-0500
TZNAME:EST
DTSTART:20251102T060000
END:STANDARD
BEGIN:DAYLIGHT
TZOFFSETFROM:-0500
TZOFFSETTO:-0400
TZNAME:EDT
DTSTART:20260308T070000
END:DAYLIGHT
BEGIN:STANDARD
TZOFFSETFROM:-0400
TZOFFSETTO:-0500
TZNAME:EST
DTSTART:20261101T060000
END:STANDARD
BEGIN:DAYLIGHT
TZOFFSETFROM:-0500
TZOFFSETTO:-0400
TZNAME:EDT
DTSTART:20270314T070000
END:DAYLIGHT
BEGIN:STANDARD
TZOFFSETFROM:-0400
TZOFFSETTO:-0500
TZNAME:EST
DTSTART:20271107T060000
END:STANDARD
END:VTIMEZONE
BEGIN:VEVENT
DTSTART;TZID=America/New_York:20260108T120000
DTEND;TZID=America/New_York:20260108T130000
DTSTAMP:20260421T073150
CREATED:20251205T151542Z
LAST-MODIFIED:20251205T151752Z
UID:2774-1767873600-1767877200@experienceyardley.com
SUMMARY:Harriet Tubman: Her Life\, Her Legacy
DESCRIPTION:Jan 8\, 2026 | 12:00–1:00 pm — Harriet Tubman: Her Life\, Her Legacy — first-person portrayal of Tubman’s journey and Underground Railroad work.
URL:https://experienceyardley.com/event/harriet-tubman-her-life-her-legacy/
LOCATION:Gather Place\, 188 S Canal St\, Yardley\, 19067\, United States
END:VEVENT
BEGIN:VEVENT
DTSTART;TZID=America/New_York:20260109T120000
DTEND;TZID=America/New_York:20260109T150000
DTSTAMP:20260421T073150
CREATED:20251205T152454Z
LAST-MODIFIED:20251205T152454Z
UID:2800-1767960000-1767970800@experienceyardley.com
SUMMARY:Gather Place 250th Open House
DESCRIPTION:Jan 9-10\, 2026 | 12:00–3:00 pm — Gather Place 250th Open House — Join us for a two-day open house featuring newly curated exhibitions\, special presentations\, and light refreshments\, as we launch 250 years of resilience\, liberty\, justice\, and equality.
URL:https://experienceyardley.com/event/gather-place-250th-open-house/
LOCATION:Gather Place\, 188 S Canal St\, Yardley\, 19067\, United States
END:VEVENT
BEGIN:VEVENT
DTSTART;TZID=America/New_York:20260110T120000
DTEND;TZID=America/New_York:20260110T150000
DTSTAMP:20260421T073150
CREATED:20251205T152529Z
LAST-MODIFIED:20251205T152529Z
UID:2802-1768046400-1768057200@experienceyardley.com
SUMMARY:Gather Place 250th Open House
DESCRIPTION:Jan 9-10\, 2026 | 12:00–3:00 pm — Gather Place 250th Open House — Join us for a two-day open house featuring newly curated exhibitions\, special presentations\, and light refreshments\, as we launch 250 years of resilience\, liberty\, justice\, and equality.
URL:https://experienceyardley.com/event/gather-place-250th-open-house-2/
LOCATION:Gather Place\, 188 S Canal St\, Yardley\, 19067\, United States
END:VEVENT
BEGIN:VEVENT
DTSTART;TZID=America/New_York:20260117T140000
DTEND;TZID=America/New_York:20260117T150000
DTSTAMP:20260421T073150
CREATED:20251205T151638Z
LAST-MODIFIED:20251205T151828Z
UID:2776-1768658400-1768662000@experienceyardley.com
SUMMARY:Hannah Penn - First-Person Program on PA's First Lady
DESCRIPTION:Jan 17\, 2026 | 2:00–3:00 pm — Hannah Penn — first-person program on Pennsylvania’s First Lady of The Commonwealth and her leadership from abroad.
URL:https://experienceyardley.com/event/hannah-penn-first-person-program/
LOCATION:Gather Place\, 188 S Canal St\, Yardley\, 19067\, United States
END:VEVENT
BEGIN:VEVENT
DTSTART;TZID=America/New_York:20260118T160000
DTEND;TZID=America/New_York:20260118T190000
DTSTAMP:20260421T073150
CREATED:20251210T144316Z
LAST-MODIFIED:20251210T144316Z
UID:2805-1768752000-1768762800@experienceyardley.com
SUMMARY:MLK Peace and Justice Summit
DESCRIPTION:
URL:https://experienceyardley.com/event/mlk-peace-and-justice-summit/
LOCATION:Bristol Borough High School\, 1801 Wilson Ave\, Bristol\, PA\, 19007
END:VEVENT
BEGIN:VEVENT
DTSTART;TZID=America/New_York:20260124T140000
DTEND;TZID=America/New_York:20260124T150000
DTSTAMP:20260421T073150
CREATED:20251205T151725Z
LAST-MODIFIED:20251205T151725Z
UID:2778-1769263200-1769266800@experienceyardley.com
SUMMARY:Susanna Warder - First-Person Story of Enslavement
DESCRIPTION:Jan 24\, 2026 | 2:00–3:00 pm — Susanna Warder — first-person story of enslavement at Pennsbury Manor and local history.
URL:https://experienceyardley.com/event/susanna-warder-first-person-story-of-enslavement/
LOCATION:Gather Place\, 188 S Canal St\, Yardley\, 19067\, United States
END:VEVENT
BEGIN:VEVENT
DTSTART;TZID=America/New_York:20260131T140000
DTEND;TZID=America/New_York:20260131T150000
DTSTAMP:20260421T073150
CREATED:20251205T151903Z
LAST-MODIFIED:20251205T151903Z
UID:2781-1769868000-1769871600@experienceyardley.com
SUMMARY:Welcome to Yardleyville
DESCRIPTION:Jan 31\, 2026 | 2:00–3:00 pm — Welcome to Yardleyville (est. 1682) — illustrated talk on Yardley’s founding\, AME Church\, and African American roots.
URL:https://experienceyardley.com/event/welcome-to-yardleyville/
LOCATION:Gather Place\, 188 S Canal St\, Yardley\, 19067\, United States
END:VEVENT
END:VCALENDAR