BEGIN:VCALENDAR
VERSION:2.0
PRODID:-//Experience Yardley - ECPv6.15.20//NONSGML v1.0//EN
CALSCALE:GREGORIAN
METHOD:PUBLISH
X-WR-CALNAME:Experience Yardley
X-ORIGINAL-URL:https://experienceyardley.com
X-WR-CALDESC:Events for Experience Yardley
REFRESH-INTERVAL;VALUE=DURATION:PT1H
X-Robots-Tag:noindex
X-PUBLISHED-TTL:PT1H
BEGIN:VTIMEZONE
TZID:America/New_York
BEGIN:DAYLIGHT
TZOFFSETFROM:-0500
TZOFFSETTO:-0400
TZNAME:EDT
DTSTART:20250309T070000
END:DAYLIGHT
BEGIN:STANDARD
TZOFFSETFROM:-0400
TZOFFSETTO:-0500
TZNAME:EST
DTSTART:20251102T060000
END:STANDARD
BEGIN:DAYLIGHT
TZOFFSETFROM:-0500
TZOFFSETTO:-0400
TZNAME:EDT
DTSTART:20260308T070000
END:DAYLIGHT
BEGIN:STANDARD
TZOFFSETFROM:-0400
TZOFFSETTO:-0500
TZNAME:EST
DTSTART:20261101T060000
END:STANDARD
BEGIN:DAYLIGHT
TZOFFSETFROM:-0500
TZOFFSETTO:-0400
TZNAME:EDT
DTSTART:20270314T070000
END:DAYLIGHT
BEGIN:STANDARD
TZOFFSETFROM:-0400
TZOFFSETTO:-0500
TZNAME:EST
DTSTART:20271107T060000
END:STANDARD
END:VTIMEZONE
BEGIN:VEVENT
DTSTART;TZID=America/New_York:20260424T110000
DTEND;TZID=America/New_York:20260424T150000
DTSTAMP:20260422T052741
CREATED:20260310T142937Z
LAST-MODIFIED:20260310T142937Z
UID:3107-1777028400-1777042800@experienceyardley.com
SUMMARY:Farmstead Fridays
DESCRIPTION:Join us on the 4th Friday of each month from 11am – 3pm\, this May through September to learn about life on the Thompson-Neely Farmstead. See the programming below: \nApril 24–Farm/Domestic Chores\nMay 22–Field work\nJune 26–Historic trades\nJuly 24–Haymaking\nAugust 28–Mills\nSeptember 25–Preserving the Harvest
URL:https://experienceyardley.com/event/farmstead-fridays/
LOCATION:Washington Crossing State Park\, 1112 River Rd\, Washington Crossing\, PA\, 18977\, United States
END:VEVENT
BEGIN:VEVENT
DTSTART;TZID=America/New_York:20260424T120000
DTEND;TZID=America/New_York:20260424T170000
DTSTAMP:20260422T052741
CREATED:20260305T013733Z
LAST-MODIFIED:20260305T013733Z
UID:3035-1777032000-1777050000@experienceyardley.com
SUMMARY:14th Annual Art Show
DESCRIPTION:Gallery open – April 11-May 3\, Fridays\, Saturdays\, Sundays\, 12-5 pm
URL:https://experienceyardley.com/event/14th-annual-art-show/
LOCATION:AOY Art Center\, 949 Mirror Lake Road\, Yardley\, 19067\, United States
END:VEVENT
BEGIN:VEVENT
DTSTART;TZID=America/New_York:20260425T090000
DTEND;TZID=America/New_York:20260425T120000
DTSTAMP:20260422T052741
CREATED:20260120T182123Z
LAST-MODIFIED:20260120T182123Z
UID:2824-1777107600-1777118400@experienceyardley.com
SUMMARY:Yardley Farmers Market
DESCRIPTION:Yardley Farmers Market is located in Buttonwood Park in downtown Yardley Borough. \nEnter on Buttonwood Drive via South Main Street (look for Greetings from Yardley mural).  Free onsite Parking.  Find us on google maps.  \nFind more information here: https://www.yardleyfarmersmarket.com/
URL:https://experienceyardley.com/event/yardley-farmers-market-42/
LOCATION:Buttonwood Park\, Buttonwood Park\, Yardley\, PA\, 19067\, United States
END:VEVENT
BEGIN:VEVENT
DTSTART;TZID=America/New_York:20260425T120000
DTEND;TZID=America/New_York:20260425T170000
DTSTAMP:20260422T052741
CREATED:20260305T013806Z
LAST-MODIFIED:20260305T013806Z
UID:3037-1777118400-1777136400@experienceyardley.com
SUMMARY:14th Annual Juried Show
DESCRIPTION:Gallery open – April 11-May 3\, Fridays\, Saturdays\, Sundays\, 12-5 pm
URL:https://experienceyardley.com/event/14th-annual-juried-show-9/
LOCATION:AOY Art Center\, 949 Mirror Lake Road\, Yardley\, 19067\, United States
END:VEVENT
BEGIN:VEVENT
DTSTART;TZID=America/New_York:20260425T140000
DTEND;TZID=America/New_York:20260425T150000
DTSTAMP:20260422T052741
CREATED:20260218T013006Z
LAST-MODIFIED:20260218T013006Z
UID:2955-1777125600-1777129200@experienceyardley.com
SUMMARY:Borough Hall : Old\, New – Outside\, Inside
DESCRIPTION:Yardley’s first municipal building still stands just east of today’s Borough Hall\, so there aren’t miles to cover on this walking tour\, but there are lots of discoveries to make and stories to tell. \n  \nJoin Yardley Borough’s new mayor Caroline Thompson and Susan Taylor to find out about Borough government\, its buildings\, and its operations. You’ll be surprised how many things have gone on here.  \nReservations are necessary for the walk. Please make yours by e-mailing or calling info@yardleyhistory.org or 215-208-1154. A $10 per person donation will be much appreciated
URL:https://experienceyardley.com/event/borough-hall-old-new-outside-inside/
LOCATION:Old Library by Lake Afton\, 46 South Main Street\, Yardley\, PA\, 19067
END:VEVENT
BEGIN:VEVENT
DTSTART;TZID=America/New_York:20260426T120000
DTEND;TZID=America/New_York:20260426T170000
DTSTAMP:20260422T052741
CREATED:20260305T013838Z
LAST-MODIFIED:20260305T013838Z
UID:3039-1777204800-1777222800@experienceyardley.com
SUMMARY:14th Annual Juried Show
DESCRIPTION:Gallery open – April 11-May 3\, Fridays\, Saturdays\, Sundays\, 12-5 pm
URL:https://experienceyardley.com/event/14th-annual-juried-show-10/
LOCATION:AOY Art Center\, 949 Mirror Lake Road\, Yardley\, 19067\, United States
END:VEVENT
BEGIN:VEVENT
DTSTART;TZID=America/New_York:20260429T180000
DTEND;TZID=America/New_York:20260429T200000
DTSTAMP:20260422T052741
CREATED:20260224T183636Z
LAST-MODIFIED:20260224T183636Z
UID:2976-1777485600-1777492800@experienceyardley.com
SUMMARY:Lecture - "The Writing of the Declaration and What it Meant in 1776"
DESCRIPTION:Join author\, Dr. Sneff\, as they explore the Declaration’s continued relavance with share their new book\, entitled “When the Declaration of Independence Was News”\, accompanied with historical reenactors and a moderated Q&A. \nThis free lecture is made possible by the General Level Supporter\, America250PA!
URL:https://experienceyardley.com/event/lecture-the-writing-of-the-declaration-and-what-it-meant-in-1776/
LOCATION:Washington Crossing State Park\, 1112 River Rd\, Washington Crossing\, PA\, 18977\, United States
END:VEVENT
END:VCALENDAR